BEGIN:VCALENDAR
VERSION:2.0
PRODID:-//Living Education - ECPv6.15.17.1//NONSGML v1.0//EN
CALSCALE:GREGORIAN
METHOD:PUBLISH
X-ORIGINAL-URL:https://www.lcgeducation.org
X-WR-CALDESC:Events for Living Education
REFRESH-INTERVAL;VALUE=DURATION:PT1H
X-Robots-Tag:noindex
X-PUBLISHED-TTL:PT1H
BEGIN:VTIMEZONE
TZID:America/New_York
BEGIN:DAYLIGHT
TZOFFSETFROM:-0500
TZOFFSETTO:-0400
TZNAME:EDT
DTSTART:20230312T070000
END:DAYLIGHT
BEGIN:STANDARD
TZOFFSETFROM:-0400
TZOFFSETTO:-0500
TZNAME:EST
DTSTART:20231105T060000
END:STANDARD
BEGIN:DAYLIGHT
TZOFFSETFROM:-0500
TZOFFSETTO:-0400
TZNAME:EDT
DTSTART:20240310T070000
END:DAYLIGHT
BEGIN:STANDARD
TZOFFSETFROM:-0400
TZOFFSETTO:-0500
TZNAME:EST
DTSTART:20241103T060000
END:STANDARD
BEGIN:DAYLIGHT
TZOFFSETFROM:-0500
TZOFFSETTO:-0400
TZNAME:EDT
DTSTART:20250309T070000
END:DAYLIGHT
BEGIN:STANDARD
TZOFFSETFROM:-0400
TZOFFSETTO:-0500
TZNAME:EST
DTSTART:20251102T060000
END:STANDARD
BEGIN:DAYLIGHT
TZOFFSETFROM:-0500
TZOFFSETTO:-0400
TZNAME:EDT
DTSTART:20260308T070000
END:DAYLIGHT
BEGIN:STANDARD
TZOFFSETFROM:-0400
TZOFFSETTO:-0500
TZNAME:EST
DTSTART:20261101T060000
END:STANDARD
END:VTIMEZONE
BEGIN:VEVENT
DTSTART;TZID=America/New_York:20241229T080000
DTEND;TZID=America/New_York:20250101T170000
DTSTAMP:20260420T000154
CREATED:20241121T221500Z
LAST-MODIFIED:20241121T221500Z
UID:18083-1735459200-1735750800@www.lcgeducation.org
SUMMARY:Winter Retreat
DESCRIPTION:
URL:https://www.lcgeducation.org/event/winter-retreat/
CATEGORIES:LivingEd-Charlotte
END:VEVENT
BEGIN:VEVENT
DTSTART;VALUE=DATE:20250101
DTEND;VALUE=DATE:20250102
DTSTAMP:20260420T000154
CREATED:20231025T144441Z
LAST-MODIFIED:20231025T144441Z
UID:17060-1735689600-1735775999@www.lcgeducation.org
SUMMARY:Spring Semester Begins
DESCRIPTION:Instruction Resumes. Welcome back to classes for Spring Semester 2025!
URL:https://www.lcgeducation.org/event/spring-semester-begins-2/
CATEGORIES:LivingEd-Charlotte
END:VEVENT
BEGIN:VEVENT
DTSTART;VALUE=DATE:20250102
DTEND;VALUE=DATE:20250103
DTSTAMP:20260420T000154
CREATED:20241121T221716Z
LAST-MODIFIED:20241121T221716Z
UID:18086-1735776000-1735862399@www.lcgeducation.org
SUMMARY:Classes Begin
DESCRIPTION:
URL:https://www.lcgeducation.org/event/classes-begin/
CATEGORIES:LivingEd-Charlotte
END:VEVENT
BEGIN:VEVENT
DTSTART;VALUE=DATE:20250126
DTEND;VALUE=DATE:20250127
DTSTAMP:20260420T000154
CREATED:20241121T221811Z
LAST-MODIFIED:20241121T221811Z
UID:18089-1737849600-1737935999@www.lcgeducation.org
SUMMARY:Widow's Brunch
DESCRIPTION:
URL:https://www.lcgeducation.org/event/widows-brunch-2/
CATEGORIES:LivingEd-Charlotte
END:VEVENT
END:VCALENDAR