BEGIN:VCALENDAR
VERSION:2.0
PRODID:-//Living Education - ECPv6.15.17.1//NONSGML v1.0//EN
CALSCALE:GREGORIAN
METHOD:PUBLISH
X-WR-CALNAME:Living Education
X-ORIGINAL-URL:https://www.lcgeducation.org
X-WR-CALDESC:Events for Living Education
REFRESH-INTERVAL;VALUE=DURATION:PT1H
X-Robots-Tag:noindex
X-PUBLISHED-TTL:PT1H
BEGIN:VTIMEZONE
TZID:America/New_York
BEGIN:DAYLIGHT
TZOFFSETFROM:-0500
TZOFFSETTO:-0400
TZNAME:EDT
DTSTART:20230312T070000
END:DAYLIGHT
BEGIN:STANDARD
TZOFFSETFROM:-0400
TZOFFSETTO:-0500
TZNAME:EST
DTSTART:20231105T060000
END:STANDARD
BEGIN:DAYLIGHT
TZOFFSETFROM:-0500
TZOFFSETTO:-0400
TZNAME:EDT
DTSTART:20240310T070000
END:DAYLIGHT
BEGIN:STANDARD
TZOFFSETFROM:-0400
TZOFFSETTO:-0500
TZNAME:EST
DTSTART:20241103T060000
END:STANDARD
BEGIN:DAYLIGHT
TZOFFSETFROM:-0500
TZOFFSETTO:-0400
TZNAME:EDT
DTSTART:20250309T070000
END:DAYLIGHT
BEGIN:STANDARD
TZOFFSETFROM:-0400
TZOFFSETTO:-0500
TZNAME:EST
DTSTART:20251102T060000
END:STANDARD
BEGIN:DAYLIGHT
TZOFFSETFROM:-0500
TZOFFSETTO:-0400
TZNAME:EDT
DTSTART:20260308T070000
END:DAYLIGHT
BEGIN:STANDARD
TZOFFSETFROM:-0400
TZOFFSETTO:-0500
TZNAME:EST
DTSTART:20261101T060000
END:STANDARD
END:VTIMEZONE
BEGIN:VEVENT
DTSTART;VALUE=DATE:20241208
DTEND;VALUE=DATE:20241209
DTSTAMP:20260422T100438
CREATED:20241121T220829Z
LAST-MODIFIED:20241121T220829Z
UID:18077-1733616000-1733702399@www.lcgeducation.org
SUMMARY:NASCAR
DESCRIPTION:Field Trip
URL:https://www.lcgeducation.org/event/nascar/
END:VEVENT
BEGIN:VEVENT
DTSTART;VALUE=DATE:20241218
DTEND;VALUE=DATE:20241219
DTSTAMP:20260422T100438
CREATED:20231025T143434Z
LAST-MODIFIED:20231025T143503Z
UID:17044-1734480000-1734566399@www.lcgeducation.org
SUMMARY:Last Day of Classes
DESCRIPTION:Final day of regular instruction for Fall semester 2024. Get ready for Finals!
URL:https://www.lcgeducation.org/event/last-day-of-classes-6/
CATEGORIES:LivingEd-Charlotte
END:VEVENT
BEGIN:VEVENT
DTSTART;VALUE=DATE:20241219
DTEND;VALUE=DATE:20241221
DTSTAMP:20260422T100438
CREATED:20231025T143618Z
LAST-MODIFIED:20231025T143618Z
UID:17048-1734566400-1734739199@www.lcgeducation.org
SUMMARY:Final Exam Days
DESCRIPTION:Time for Finals Fall 2024! You’re almost there!
URL:https://www.lcgeducation.org/event/final-exam-days/
CATEGORIES:LivingEd-Charlotte
END:VEVENT
BEGIN:VEVENT
DTSTART;VALUE=DATE:20241220
DTEND;VALUE=DATE:20241221
DTSTAMP:20260422T100438
CREATED:20231025T143714Z
LAST-MODIFIED:20231025T143714Z
UID:17051-1734652800-1734739199@www.lcgeducation.org
SUMMARY:Instruction Ends
DESCRIPTION:Last day of semester\, Fall 2024!
URL:https://www.lcgeducation.org/event/instruction-ends-2/
CATEGORIES:LivingEd-Charlotte
END:VEVENT
BEGIN:VEVENT
DTSTART;TZID=America/New_York:20241220T190000
DTEND;TZID=America/New_York:20241222T170000
DTSTAMP:20260422T100438
CREATED:20241121T221315Z
LAST-MODIFIED:20241121T221315Z
UID:18080-1734721200-1734886800@www.lcgeducation.org
SUMMARY:Charlotte Family Winter Weekend
DESCRIPTION:
URL:https://www.lcgeducation.org/event/charlotte-family-winter-weekend/
END:VEVENT
BEGIN:VEVENT
DTSTART;VALUE=DATE:20241221
DTEND;VALUE=DATE:20250101
DTSTAMP:20260422T100438
CREATED:20231025T144230Z
LAST-MODIFIED:20231025T144230Z
UID:17057-1734739200-1735689599@www.lcgeducation.org
SUMMARY:Semester Break
DESCRIPTION:No classes/winter break. Time for hot chocolate\, cozy blankets\, and sleep! See you in the spring!
URL:https://www.lcgeducation.org/event/semester-break-4/
CATEGORIES:LivingEd-Charlotte
END:VEVENT
BEGIN:VEVENT
DTSTART;VALUE=DATE:20241225
DTEND;VALUE=DATE:20241226
DTSTAMP:20260422T100438
CREATED:20231025T143823Z
LAST-MODIFIED:20231025T143823Z
UID:17054-1735084800-1735171199@www.lcgeducation.org
SUMMARY:Final Grades Due
DESCRIPTION:Grades due for Fall semester 2024
URL:https://www.lcgeducation.org/event/final-grades-due-4/
CATEGORIES:LivingEd-Charlotte
END:VEVENT
BEGIN:VEVENT
DTSTART;TZID=America/New_York:20241229T080000
DTEND;TZID=America/New_York:20250101T170000
DTSTAMP:20260422T100438
CREATED:20241121T221500Z
LAST-MODIFIED:20241121T221500Z
UID:18083-1735459200-1735750800@www.lcgeducation.org
SUMMARY:Winter Retreat
DESCRIPTION:
URL:https://www.lcgeducation.org/event/winter-retreat/
CATEGORIES:LivingEd-Charlotte
END:VEVENT
END:VCALENDAR