BEGIN:VCALENDAR
VERSION:2.0
PRODID:-//Living Education - ECPv6.15.17.1//NONSGML v1.0//EN
CALSCALE:GREGORIAN
METHOD:PUBLISH
X-ORIGINAL-URL:https://www.lcgeducation.org
X-WR-CALDESC:Events for Living Education
REFRESH-INTERVAL;VALUE=DURATION:PT1H
X-Robots-Tag:noindex
X-PUBLISHED-TTL:PT1H
BEGIN:VTIMEZONE
TZID:America/New_York
BEGIN:DAYLIGHT
TZOFFSETFROM:-0500
TZOFFSETTO:-0400
TZNAME:EDT
DTSTART:20220313T070000
END:DAYLIGHT
BEGIN:STANDARD
TZOFFSETFROM:-0400
TZOFFSETTO:-0500
TZNAME:EST
DTSTART:20221106T060000
END:STANDARD
BEGIN:DAYLIGHT
TZOFFSETFROM:-0500
TZOFFSETTO:-0400
TZNAME:EDT
DTSTART:20230312T070000
END:DAYLIGHT
BEGIN:STANDARD
TZOFFSETFROM:-0400
TZOFFSETTO:-0500
TZNAME:EST
DTSTART:20231105T060000
END:STANDARD
BEGIN:DAYLIGHT
TZOFFSETFROM:-0500
TZOFFSETTO:-0400
TZNAME:EDT
DTSTART:20240310T070000
END:DAYLIGHT
BEGIN:STANDARD
TZOFFSETFROM:-0400
TZOFFSETTO:-0500
TZNAME:EST
DTSTART:20241103T060000
END:STANDARD
END:VTIMEZONE
BEGIN:VEVENT
DTSTART;VALUE=DATE:20231122
DTEND;VALUE=DATE:20231127
DTSTAMP:20260420T024320
CREATED:20221107T205334Z
LAST-MODIFIED:20221107T205345Z
UID:15139-1700611200-1701043199@www.lcgeducation.org
SUMMARY:Thanksgiving Break
DESCRIPTION:Time to to take some time for thanks and turkey!
URL:https://www.lcgeducation.org/event/thanksgiving-break-2/
CATEGORIES:LivingEd-Charlotte
ATTACH;FMTTYPE=image/jpeg:https://www.lcgeducation.org/wp-content/uploads/2022/11/pro-church-media-p2OQW69vXP4-unsplash.jpg
END:VEVENT
END:VCALENDAR