BEGIN:VCALENDAR
VERSION:2.0
PRODID:-//Living Education - ECPv6.15.17.1//NONSGML v1.0//EN
CALSCALE:GREGORIAN
METHOD:PUBLISH
X-WR-CALNAME:Living Education
X-ORIGINAL-URL:https://www.lcgeducation.org
X-WR-CALDESC:Events for Living Education
REFRESH-INTERVAL;VALUE=DURATION:PT1H
X-Robots-Tag:noindex
X-PUBLISHED-TTL:PT1H
BEGIN:VTIMEZONE
TZID:America/New_York
BEGIN:DAYLIGHT
TZOFFSETFROM:-0500
TZOFFSETTO:-0400
TZNAME:EDT
DTSTART:20220313T070000
END:DAYLIGHT
BEGIN:STANDARD
TZOFFSETFROM:-0400
TZOFFSETTO:-0500
TZNAME:EST
DTSTART:20221106T060000
END:STANDARD
BEGIN:DAYLIGHT
TZOFFSETFROM:-0500
TZOFFSETTO:-0400
TZNAME:EDT
DTSTART:20230312T070000
END:DAYLIGHT
BEGIN:STANDARD
TZOFFSETFROM:-0400
TZOFFSETTO:-0500
TZNAME:EST
DTSTART:20231105T060000
END:STANDARD
BEGIN:DAYLIGHT
TZOFFSETFROM:-0500
TZOFFSETTO:-0400
TZNAME:EDT
DTSTART:20240310T070000
END:DAYLIGHT
BEGIN:STANDARD
TZOFFSETFROM:-0400
TZOFFSETTO:-0500
TZNAME:EST
DTSTART:20241103T060000
END:STANDARD
END:VTIMEZONE
BEGIN:VEVENT
DTSTART;TZID=America/New_York:20230811T100000
DTEND;TZID=America/New_York:20230811T170000
DTSTAMP:20260422T065103
CREATED:20221107T161200Z
LAST-MODIFIED:20221107T161200Z
UID:15098-1691748000-1691773200@www.lcgeducation.org
SUMMARY:Student Arrival
DESCRIPTION:Welcome new students!
URL:https://www.lcgeducation.org/event/student-arrival-3/
CATEGORIES:LivingEd-Charlotte
ATTACH;FMTTYPE=image/jpeg:https://www.lcgeducation.org/wp-content/uploads/2022/11/nico-smit-QnkzvFCxKrA-unsplash.jpg
END:VEVENT
BEGIN:VEVENT
DTSTART;VALUE=DATE:20230813
DTEND;VALUE=DATE:20230816
DTSTAMP:20260422T065103
CREATED:20221107T161656Z
LAST-MODIFIED:20221107T161656Z
UID:15102-1691884800-1692143999@www.lcgeducation.org
SUMMARY:Student Orientation Retreat
DESCRIPTION:Time to get oriented!
URL:https://www.lcgeducation.org/event/student-orientation-retreat-4/
CATEGORIES:LivingEd-Charlotte
ATTACH;FMTTYPE=image/jpeg:https://www.lcgeducation.org/wp-content/uploads/2021/08/Blowing-rock.jpg
END:VEVENT
BEGIN:VEVENT
DTSTART;VALUE=DATE:20230816
DTEND;VALUE=DATE:20230818
DTSTAMP:20260422T065103
CREATED:20221107T165958Z
LAST-MODIFIED:20221107T165958Z
UID:15105-1692144000-1692316799@www.lcgeducation.org
SUMMARY:On-campus Orientation
DESCRIPTION:Time to meet the staff and faculty at headquarters!
URL:https://www.lcgeducation.org/event/on-campus-orientation-3/
CATEGORIES:LivingEd-Charlotte
END:VEVENT
BEGIN:VEVENT
DTSTART;VALUE=DATE:20230818
DTEND;VALUE=DATE:20230819
DTSTAMP:20260422T065103
CREATED:20221107T170941Z
LAST-MODIFIED:20221107T170941Z
UID:15112-1692316800-1692403199@www.lcgeducation.org
SUMMARY:Student settle-in day
DESCRIPTION:Students get the day off to prepare for the start of the semester.
URL:https://www.lcgeducation.org/event/student-settle-in-day-3/
CATEGORIES:LivingEd-Charlotte
END:VEVENT
BEGIN:VEVENT
DTSTART;VALUE=DATE:20230821
DTEND;VALUE=DATE:20230822
DTSTAMP:20260422T065103
CREATED:20221107T170257Z
LAST-MODIFIED:20221107T170257Z
UID:15108-1692576000-1692662399@www.lcgeducation.org
SUMMARY:Instruction Begins
DESCRIPTION:Ready\, set…Learn!
URL:https://www.lcgeducation.org/event/instruction-begins-3/
CATEGORIES:LivingEd-Charlotte
ATTACH;FMTTYPE=image/jpeg:https://www.lcgeducation.org/wp-content/uploads/2022/11/DSC01752-X3.jpg
END:VEVENT
END:VCALENDAR